BEGIN:VCALENDAR
VERSION:2.0
PRODID:-//ChamberMaster//Event Calendar 2.0//EN
METHOD:PUBLISH
X-PUBLISHED-TTL:P3D
REFRESH-INTERVAL:P3D
CALSCALE:GREGORIAN
BEGIN:VEVENT
DTSTART:20260417T140000Z
DTEND:20260417T203000Z
X-MICROSOFT-CDO-ALLDAYEVENT:FALSE
SUMMARY:Mental Health in the Workplace - The Working Mind
DESCRIPTION:Mental Health in the Workplace is practical training designed to help employees at every level make a meaningful difference in their work environment. Participants will learn how to:\n\n  create a psychologically healthy workplace\n\n  respond to challenges constructively\n\n  manage stress in healthy and sustainable ways\n\n\n\nLead From Where you Are\n\n	Shape a psychologically safe workplace. \n	Navigate conflict and challenges constructively.\n	Understand the five core needs that support well-being. \n	Take practical action to build a supportive team. \n\nThis training is brought to you by Advantage HR+ Consulting.
X-ALT-DESC;FMTTYPE=text/html:Mental Health in the Workplace is practical training designed to help employees at every level make a meaningful difference in their work environment. Participants will learn how to:<br />\n&bull\; create a psychologically healthy workplace<br />\n&bull\; respond to challenges constructively<br />\n&bull\; manage stress in healthy and sustainable ways<br />\n<br />\nLead From Where you Are\n<ul>\n	<li>Shape a psychologically safe workplace.&nbsp\;</li>\n	<li>Navigate conflict and challenges constructively.</li>\n	<li>Understand the five core needs that support well-being.&nbsp\;</li>\n	<li>Take practical action to build a supportive team.&nbsp\;</li>\n</ul>\nThis training is brought to you by Advantage HR+ Consulting.&nbsp\;
LOCATION:
UID:e.2532.1027
SEQUENCE:3
DTSTAMP:20260420T002048Z
URL:https://join.assiniboiachamber.ca/events/details/mental-health-in-the-workplace-the-working-mind-1027
END:VEVENT

END:VCALENDAR
